BEGIN:VCALENDAR
VERSION:2.0
PRODID:icalendar-ruby
CALSCALE:GREGORIAN
METHOD:PUBLISH
BEGIN:VEVENT
DTSTAMP:20260424T214304Z
UID:397-2137182@abbotsfordanglican.ca
DTSTART:20260501T210000Z
DTEND:20260502T220000Z
CLASS:PUBLIC
CREATED:20260424T105927
DESCRIPTION:Date &amp\; Time: May 1st Friday 2pm  AND  May 2nd Saturday 2
 pm (Please note these are two separate workshops) \nJoin our Parish Potter
 y Handbuilding Workshop—an invitation to bring your creativity. Shape cl
 ay with your hands and heart as you make pieces that are both beautiful an
 d meaningful\, from everyday vessels to unique ornaments.\nNo experience n
 eeded—just a willingness to explore\, create\, and connect.\nLocation: S
 t. Matthew’s Anglican parish\nMaterials provided. All are welcome.\nRegi
 stration at james@abbotsfordanglican.ca
LAST-MODIFIED:20260424T105927
LOCATION:
SUMMARY:Spring Pottery Workshops 
URL;VALUE=URI:https://www.abbotsfordanglican.ca/events/spring-pottery-works
 hops/2026-05-01
ATTACH;FILENAME=12-Techniques-For-Hand-Building-Clay-And-Coil-Pottery.jpg;F
 MTTYPE=image/jpeg:https://dq5pwpg1q8ru0.cloudfront.net/2026/04/24/16/52/50
 /ca85bfff-a43c-48cf-b32f-2f6fd76297b0/12-Techniques-For-Hand-Building-Clay
 -And-Coil-Pottery.jpg
END:VEVENT
END:VCALENDAR
