BEGIN:VCALENDAR
VERSION:2.0
PRODID:icalendar-ruby
CALSCALE:GREGORIAN
METHOD:PUBLISH
BEGIN:VEVENT
DTSTAMP:20260425T141438Z
UID:398-2137181@abbotsfordanglican.ca
DTSTART;VALUE=DATE:20260620
DTEND;VALUE=DATE:20260620
CLASS:PUBLIC
CREATED:20260424T101443
DESCRIPTION:St Matt's is planning a wonderful summer picinic for the whole 
 family at Mill Lake Park. More details to come!
LAST-MODIFIED:20260424T101443
LOCATION:Mill Lake Park
SUMMARY:Save the Date -  Summer Picnic
URL;VALUE=URI:https://www.abbotsfordanglican.ca/events/save-the-date-summer
 -picnic/2026-06-20
ATTACH;FILENAME=churchpicnic.jpg;FMTTYPE=image/jpeg:https://dq5pwpg1q8ru0.c
 loudfront.net/2026/04/24/17/14/43/8e037ad8-ba82-4e3a-be41-4b4380503300/chu
 rchpicnic.jpg
END:VEVENT
END:VCALENDAR
